BEGIN:VCALENDAR
VERSION:2.0
PRODID:-//Hệ sinh thái Cấy Nền - ECPv6.9.0//NONSGML v1.0//EN
CALSCALE:GREGORIAN
METHOD:PUBLISH
X-WR-CALNAME:Hệ sinh thái Cấy Nền
X-ORIGINAL-URL:https://caynen.vn
X-WR-CALDESC:Events for Hệ sinh thái Cấy Nền
REFRESH-INTERVAL;VALUE=DURATION:PT1H
X-Robots-Tag:noindex
X-PUBLISHED-TTL:PT1H
BEGIN:VTIMEZONE
TZID:Asia/Krasnoyarsk
BEGIN:STANDARD
TZOFFSETFROM:+0700
TZOFFSETTO:+0700
TZNAME:+07
DTSTART:20240101T000000
END:STANDARD
END:VTIMEZONE
BEGIN:VEVENT
DTSTART;TZID=Asia/Krasnoyarsk:20240522T180000
DTEND;TZID=Asia/Krasnoyarsk:20240522T200000
DTSTAMP:20260422T205338
CREATED:20240516T054434Z
LAST-MODIFIED:20240516T054540Z
UID:7091-1716400800-1716408000@caynen.vn
SUMMARY:Chọn hướng đi và chuẩn bị tương lai
DESCRIPTION:Câu lạc bộ Cấy Nền Nam Thi rất vui mừng thông báo về buổi trò chuyện tiếp theo cùng Giáo sư Phan Văn Trường\, sẽ diễn ra vào tối thứ Tư tuần tới 22/05/2024 với chủ đề “Chọn hướng đi và chuẩn bị tương lai”.\n\n\nMời bạn đăng ký tham gia qua đường dẫn: https://forms.gle/8g64tMQ76yKLQTNw5\nMong gặp bạn tại The Lighthouse\, với tinh thần Hồn nhiên – Bình đẳng – Thẳng thắn – Tích cực\n\n\n—\n Nam Thi House – Nơi chốn thứ ba của bạn\n 152 Nam Kỳ Khởi Nghĩa\, P. Bến Nghé\, Q.1\, TP. HCM\n Liên hệ Không gian sự kiện: Zalo: 0901 456 511\n—\n Không gian đọc The Lighthouse mở cửa T3 – CN\, 9h – 18h\n Không gian sáng tạo The Nest mở cửa T4 – CN\, 9h – 18h
URL:https://caynen.vn/su-kien-moi/chon-huong-di-va-chuan-bi-tuong-lai/
LOCATION:Nam Thi House\, 152 Nam Kỳ Khởi Nghĩa\, P. Bến Nghé\, Q.1\, TP. Hồ Chí Minh\, Hồ Chí Minh\, Ho Chi Minh\, 700000\, Viet Nam
CATEGORIES:Offline
ATTACH;FMTTYPE=image/jpeg:https://caynen.vn/wp-content/uploads/2024/05/chon-huong-di-va-chuan-bi-tuong-lai-cover.jpg
END:VEVENT
END:VCALENDAR