BEGIN:VCALENDAR
VERSION:2.0
PRODID:-//Hệ sinh thái Cấy Nền - ECPv6.9.0//NONSGML v1.0//EN
CALSCALE:GREGORIAN
METHOD:PUBLISH
X-WR-CALNAME:Hệ sinh thái Cấy Nền
X-ORIGINAL-URL:https://caynen.vn
X-WR-CALDESC:Events for Hệ sinh thái Cấy Nền
REFRESH-INTERVAL;VALUE=DURATION:PT1H
X-Robots-Tag:noindex
X-PUBLISHED-TTL:PT1H
BEGIN:VTIMEZONE
TZID:Asia/Krasnoyarsk
BEGIN:STANDARD
TZOFFSETFROM:+0700
TZOFFSETTO:+0700
TZNAME:+07
DTSTART:20230101T000000
END:STANDARD
END:VTIMEZONE
BEGIN:VEVENT
DTSTART;TZID=Asia/Krasnoyarsk:20231110T080000
DTEND;TZID=Asia/Krasnoyarsk:20231110T180000
DTSTAMP:20260421T221145
CREATED:20231109T094335Z
LAST-MODIFIED:20231109T104310Z
UID:5830-1699603200-1699639200@caynen.vn
SUMMARY:Hướng đi mới - Kiến tạo nội lực thời trang Việt
DESCRIPTION:Cấy Nền Thời Trang với chủ đề “HƯỚNG ĐI MỚI – KIẾN TẠO NỘI LỰC THỜI TRANG VIỆT” được thành lập với mong muốn tạo dựng một hệ sinh thái gồm 3 lõi lớn trong ngành thời trang là: Nghiên cứu R&D\, Sản xuất và Thương mại – Marketing để bảo trợ uy tín cho các doanh nghiệp kinh doanh thời trang Việt vừa và nhỏ tại Việt Nam với tinh thần bình đẳng\, cùng nhau hỗ trợ và phát triển. Gia tăng nội lực cho nhau dựa trên những hoạt động chia sẻ\, hỗ trợ đồng hành\, kết nối hợp tác! \n  \n\n\nCách tham dự:\n\nĐăng ký tham dự qua Form\, sau khi chuyển khoản thành công\, BTC sẽ gửi Thư mời và thông tin tham dự đến bạn thông qua Email cung cấp.\n\n\n– Form đăng ký: https://s.net.vn/vSUN\n– Group Zalo: https://zalo.me/g/pootnz594\n\n\n\n\nThông tin liên hệ BTC:\n\nĐiều phối: Ms. Hải Yến – 0902.330.504\nMs. Nguyễn Trang – 0962.931.398\nMs. Thu Thảo – 0981.671.397
URL:https://caynen.vn/su-kien-moi/huong-di-moi-kien-tao-noi-luc-thoi-trang-viet/
LOCATION:Sảnh Sarin – Capella Park View\, Số 3 Đặng Văn Sâm\, Phường 09\, Quận Phú Nhuận\, Hồ Chí Minh\, 700000\, Viet Nam
CATEGORIES:Offline
ATTACH;FMTTYPE=image/jpeg:https://caynen.vn/wp-content/uploads/2023/11/z4864082432143_dbbd2954d745837031d71c62c1ddb87e-1.jpg
END:VEVENT
END:VCALENDAR