BEGIN:VCALENDAR
VERSION:2.0
PRODID:-//Hệ sinh thái Cấy Nền - ECPv6.9.0//NONSGML v1.0//EN
CALSCALE:GREGORIAN
METHOD:PUBLISH
X-WR-CALNAME:Hệ sinh thái Cấy Nền
X-ORIGINAL-URL:https://caynen.vn
X-WR-CALDESC:Events for Hệ sinh thái Cấy Nền
REFRESH-INTERVAL;VALUE=DURATION:PT1H
X-Robots-Tag:noindex
X-PUBLISHED-TTL:PT1H
BEGIN:VTIMEZONE
TZID:Asia/Krasnoyarsk
BEGIN:STANDARD
TZOFFSETFROM:+0700
TZOFFSETTO:+0700
TZNAME:+07
DTSTART:20230101T000000
END:STANDARD
END:VTIMEZONE
BEGIN:VEVENT
DTSTART;TZID=Asia/Krasnoyarsk:20231115T083000
DTEND;TZID=Asia/Krasnoyarsk:20231115T113000
DTSTAMP:20260421T221221
CREATED:20231111T102727Z
LAST-MODIFIED:20231111T123155Z
UID:5868-1700037000-1700047800@caynen.vn
SUMMARY:Quản trị doanh nghiệp giữa tâm bão suy thoái & thách thức giải pháp
DESCRIPTION:CHÀO ĐÓN THÁNG 11 SVDCA GỬI ĐẾN QUÝ HỘI VIÊN/QUÝ DOANH NGHIỆP Buổi TOẠ ĐÀM với Chủ đề “ QUẢN TRỊ DOANH NGHIỆP GIỮA TÂM BÃO SUY THOÁI VÀ THÁCH THỨC GIẢI PHÁP ” do Giáo Sư Phan Văn Trường chia sẻ \n\n\n\n Trong thời đại mới\, các doanh nghiệp phải đối mặt với nhiều thách thức mới\, chẳng hạn như sự phát triển của công nghệ\, sự thay đổi của thị trường và sự cạnh tranh ngày càng gay gắt. Buổi tọa đàm hôm nay sẽ giúp quý vị tìm hiểu những giải pháp để quản trị doanh nghiệp hiệu quả trong thời đại mới.\n\n\n Với sự góp mặt của Giáo Sư Phan Văn Trường – chuyên gia hàng đầu trong lĩnh vực quản trị doanh nghiệp. Giáo sư sẽ chia sẻ những kiến thức và kinh nghiệm quý báu của mình với quý vị. Đây là cơ hội quý báu để quý vị nâng cao kiến thức và kỹ năng quản trị doanh nghiệp của mình.\n_____________________\nThông tin đăng ký sự kiện tại :\nhttps://svdca.org.vn/toa-dam-quan-tri-doanh-nghiep-giua…/\nThời gian : 8:30 AM / 15.11.2023\nĐịa điểm : Stix – Banquets & Events\n174A Nguyễn Đình Chiểu\, Phường 6\, Quận 3\, Thành phố Hồ Chí Minh\n____________________\nThông tin chi tiết vui lòng liên hệ:\nCHI HỘI TRUYỀN THÔNG SỐ PHÍA NAM – SVDCA\nWebsite: https://svdca.org.vn\n=========================\nMs. Trang Lê\nAssistant Southern Vietnam Digital Communications Association (SVDCA)\n+84 339 168 379 | vdca.org.vn/ | trangltt@svdca.org.vn
URL:https://caynen.vn/su-kien-moi/quan-tri-doanh-nghiep-giua-tam-bao-suy-thoai-va-thach-thuc-giai-phap/
LOCATION:Stix – Banquets & Events\, 174A Nguyễn Đình Chiểu\, 174A Nguyễn Đình Chiểu\, Phường 6\, Quận 3\, Hồ Chí Minh\, 700000\, Viet Nam
CATEGORIES:Offline
ATTACH;FMTTYPE=image/jpeg:https://caynen.vn/wp-content/uploads/2023/11/quan-tri-doanh-nghiep-giua-tam-bao-suy-thoai-cover.jpg
END:VEVENT
END:VCALENDAR