BEGIN:VCALENDAR
VERSION:2.0
PRODID:-//Hệ sinh thái Cấy Nền - ECPv6.9.0//NONSGML v1.0//EN
CALSCALE:GREGORIAN
METHOD:PUBLISH
X-WR-CALNAME:Hệ sinh thái Cấy Nền
X-ORIGINAL-URL:https://caynen.vn
X-WR-CALDESC:Events for Hệ sinh thái Cấy Nền
REFRESH-INTERVAL;VALUE=DURATION:PT1H
X-Robots-Tag:noindex
X-PUBLISHED-TTL:PT1H
BEGIN:VTIMEZONE
TZID:Asia/Krasnoyarsk
BEGIN:STANDARD
TZOFFSETFROM:+0700
TZOFFSETTO:+0700
TZNAME:+07
DTSTART:20230101T000000
END:STANDARD
END:VTIMEZONE
BEGIN:VEVENT
DTSTART;TZID=Asia/Krasnoyarsk:20231126T083000
DTEND;TZID=Asia/Krasnoyarsk:20231126T113000
DTSTAMP:20260422T020341
CREATED:20231117T111235Z
LAST-MODIFIED:20231124T153641Z
UID:6054-1700987400-1700998200@caynen.vn
SUMMARY:Giáo viên thời đại mới
DESCRIPTION:👉 Sau hơn 3 năm từ ngày Tổ chức Cấy Nền Giáo dục tại Bắc Giang với chủ đề” Học thật – Dạy thật – Hạnh phúc thật” quy tự hơn 70 Thầy cô đến từ mọi miền Tổ Quốc đã bén duyên để gieo những hạt giáo dục đầu tiên. Sau những biến động của Covid\, biến động của nền kinh tế thị trường\, những xu hướng giáo dục mới. Các Thầy cô đã có kế hoạch gì cho tương lai? \n👉 Cấy Nền Alpha với 5 Trại hè Hồn nhiên 27 Happy Sunday đã được tổ chức từ 2021 đến nay\, đã giảng dạy cho hơn 1000 lượt các bạn Alpha\, với khoảng hơn 220 chủ đề được chia sẻ. Tương lai nghề Giáo viên các thầy cô sẽ định vị đó là NGHỀ HAY NGHIỆP? Làm thế nào để mỗi bài giảng của Thầy cô luôn sáng tạo\, cảm xúc…cho các Trò? \n👉 Với những ứng dụng mới của AI -Trí tuệ nhân tạo\, vậy nó sẽ là công cụ hữu ích hay rào cản trong quá trình các Thầy cô & các con tiếp cận kiến thức? Hãy cùng các chuyên gia của Cấy Nền Chuyển đổi số chia sẻ cho bạn những cách tối ưu khi sử dụng các ứng dụng của AI? \nTất cả những nội dung trên sẽ có trong buổi Talkshow với:\n🔸 Chủ đề: CÂY NỀN GIÁO VIÊN THỜI ĐẠI MỚI\n🔹 Chủ đề 1: Hướng đi nào cho giáo viên thời AI?\n🔹 Chủ đề 2: Giáo viên – Nghề hay Nghiệp?\n🔹 Chủ đề 3: Giảng dạy online có phải hướng đi mới? \n🔸 Chia sẻ:\n1. GS Phan Văn Trường: Người sáng lập Hệ sinh thái Cấy Nền\n2. Anh Hoàng Lê Minh – Chuyên gia tư vấn Chuyển đổi số\n3. Anh Đoàn Phúc – Chuyên gia AI\n4. Thầy Giáp Văn Dương – Chủ nhiệm Cấy Nền Hưng Yên\n5. Cô Minh Ngọc – Chủ nhiệm Cấy Nền Giáo dục Bắc Giang\n6. Cô Hậu Ngô – Đồng Chủ nhiệm Cấy Nền Alpha\n7. Cô Giang Nguyễn – Cấy Nền Alpha\n8. Host: Quyên Nguyễn – Đồng Chủ nhiệm Cấy Nền Alpha & Chuyển đổi số \n🔹 Thời gian: 8h30-11h30\, Chủ nhật\, 26/11/2023\n🔹 Online qua Zoom (ID & pass sẽ báo sau)\n🔹 Đối tượng tham gia: Thầy Cô giáo\, Bố mẹ & các con\n🔹 Link đăng ký: https://forms.gle/tmcsuQgr3STqr7sb6\n🔹 Hạn đăng ký: 12h00\, Thứ 7\, 25/11/2023\n🔹 Nhóm Facebook Cấy Nền Alpha: https://www.facebook.com/groups/caynengiaoduchanhphuc
URL:https://caynen.vn/su-kien-moi/giao-vien-thoi-dai-moi/
CATEGORIES:Online
ATTACH;FMTTYPE=image/jpeg:https://caynen.vn/wp-content/uploads/2023/11/z4888559548885_e5dbd9bec129520b89b3ca0489ac34f2.jpg
END:VEVENT
END:VCALENDAR